BEGIN:VCALENDAR
VERSION:2.0
CALSCALE:GREGORIAN
PRODID:adamgibbons/ics
METHOD:PUBLISH
X-PUBLISHED-TTL:PT1H
BEGIN:VEVENT
UID:21074@offbeat.amsterdam
SUMMARY:The Temperance Movement
DTSTAMP:20260422T002256Z
DTSTART:20261108T183000Z
URL:https://offbeat.amsterdam/event/the-temperance-movement
GEO:52.3647777;4.881073026725959
LOCATION:Melkweg - Lijnbaansgracht 234A\, 1017 PH Amsterdam
STATUS:CONFIRMED
CATEGORIES:amsterdam-centrum,blues rock,classic rock,concert,leidseplein,ro
	ck
END:VEVENT
END:VCALENDAR
